BEGIN:VCALENDAR
VERSION:2.0
PRODID:-//jEvents 2.0 for Joomla//EN
CALSCALE:GREGORIAN
METHOD:PUBLISH
BEGIN:VEVENT
UID:94vjllvqtn5dt0o68t0fkfqq2k@google.com
CATEGORIES:DEFAULT
CREATED:20240518T111505
SUMMARY:District Video Meeting (All Leaders Welcome)
DESCRIPTION:Every 3 months on the first Monday of the Month - A catch up opportunity op
 en to Leaders of all levels. We may occasionally move or cancel due to Holi
 day conflicts but will communicate that to the District.<br/><br/>Join with
  Google Meet: <a href="https://meet.google.com/sxz-teny-gdz">https://meet.g
 oogle.com/sxz-teny-gdz</a><br/>Or dial: (US) +1 352-462-5119 PIN: 554864288
 #<br/>More phone numbers: <a href="https://tel.meet/sxz-teny-gdz?pin=741361
 7782913&hs=7<br/><br/>Learn">https://tel.meet/sxz-teny-gdz?pin=741361778291
 3&hs=7<br/><br/>Learn</a> more about Meet at: <a href="https://support.goog
 le.com/a/users/answer/9282720">https://support.google.com/a/users/answer/92
 82720</a>
DTSTAMP:20260419T183933
DTSTART:20240910T000000
DTEND:20240910T010000
SEQUENCE:3
TRANSP:OPAQUE
END:VEVENT
END:VCALENDAR