BEGIN:VCALENDAR
VERSION:2.0
PRODID:-//jEvents 2.0 for Joomla//EN
CALSCALE:GREGORIAN
METHOD:PUBLISH
BEGIN:VEVENT
UID:94vjllvqtn5dt0o68t0fkfqq2k_R20250304T010000@google.com
CATEGORIES:DEFAULT
CREATED:20250414T161504
SUMMARY:District Video Meeting (All Leaders Welcome)
DESCRIPTION:Every 3 months on the first Monday of the Month - A catch up opportunity op
 en to Leaders of all levels. We may occasionally move or cancel due to Holi
 day conflicts but will communicate that to the District.\n\nJoin with Googl
 e Meet: https://meet.google.com/weo-zcjq-jhd (https://meet.google.com/weo-z
 cjq-jhd)\nOr dial: (US) +1 949-416-5512 PIN: 863171602#\nMore phone numbers
 : https://tel.meet/weo-zcjq-jhd?pin=6269290563436&amp;hs=7\n\nLearn (https:
 //tel.meet/weo-zcjq-jhd?pin=6269290563436&amp;hs=7\n\nLearn) more about Mee
 t at: https://support.google.com/a/users/answer/9282720 (https://support.go
 ogle.com/a/users/answer/9282720)
X-ALT-DESC;FMTTYPE=text/html:Every 3 months on the first Monday of the Month - A catch up opportunity op
 en to Leaders of all levels. We may occasionally move or cancel due to Holi
 day conflicts but will communicate that to the District.<br/><br/>Join with
  Google Meet: <a href="https://meet.google.com/weo-zcjq-jhd">https://meet.g
 oogle.com/weo-zcjq-jhd</a><br/>Or dial: (US) +1 949-416-5512 PIN: 863171602
 #<br/>More phone numbers: <a href="https://tel.meet/weo-zcjq-jhd?pin=626929
 0563436&hs=7<br/><br/>Learn">https://tel.meet/weo-zcjq-jhd?pin=626929056343
 6&hs=7<br/><br/>Learn</a> more about Meet at: <a href="https://support.goog
 le.com/a/users/answer/9282720">https://support.google.com/a/users/answer/92
 82720</a>
DTSTAMP:20260419T211305
DTSTART:20270907T000000
DTEND:20270907T010000
SEQUENCE:2
TRANSP:OPAQUE
END:VEVENT
END:VCALENDAR