BEGIN:VCALENDAR
VERSION:2.0
PRODID:-//jEvents 2.0 for Joomla//EN
CALSCALE:GREGORIAN
METHOD:PUBLISH
BEGIN:VEVENT
UID:6bvbbnju0fcm8l6udlljdd9h0v@google.com
CATEGORIES:DEFAULT
CREATED:19691231T180000
SUMMARY:District Staff Meeting
DESCRIPTION:
DTSTAMP:20260419T154354
DTSTART;VALUE=DATE:20230224
DTEND;VALUE=DATE:20230225
SEQUENCE:1
RRULE:FREQ=MONTHLY;UNTIL=20311212T000000Z;INTERVAL=12;BYDAY=-1FR
TRANSP:OPAQUE
END:VEVENT
END:VCALENDAR