BEGIN:VCALENDAR
VERSION:2.0
PRODID:-//jEvents 2.0 for Joomla//EN
CALSCALE:GREGORIAN
METHOD:PUBLISH
BEGIN:VEVENT
UID:7t5ri40r5dmlqnkiesvik8sqv7@google.com
CATEGORIES:DEFAULT
CREATED:20241202T101508
SUMMARY:Camp Wilderness Workday
DESCRIPTION:
DTSTAMP:20260419T135208
DTSTART;VALUE=DATE:20250111
DTEND;VALUE=DATE:20250112
SEQUENCE:0
TRANSP:OPAQUE
END:VEVENT
END:VCALENDAR