BEGIN:VCALENDAR
VERSION:2.0
PRODID:-//jEvents 2.0 for Joomla//EN
CALSCALE:GREGORIAN
METHOD:PUBLISH
BEGIN:VEVENT
UID:0srpo2a7nc4lsb6ce1h00634tb@google.com
CATEGORIES:DEFAULT
CREATED:20251201T195130
SUMMARY:Junior Training Camps
DESCRIPTION:
DTSTAMP:20260419T112720
DTSTART;VALUE=DATE:20261203
DTEND;VALUE=DATE:20261207
SEQUENCE:0
TRANSP:OPAQUE
END:VEVENT
END:VCALENDAR