BEGIN:VCALENDAR
VERSION:2.0
PRODID:-//jEvents 2.0 for Joomla//EN
CALSCALE:GREGORIAN
METHOD:PUBLISH
BEGIN:VEVENT
UID:64f6lbd0rdkq97n3h59i5qot8n@google.com
CATEGORIES:DEFAULT
CREATED:20251201T195130
SUMMARY:Junior Missions Camp
DESCRIPTION:Join with Google Meet: https://meet.google.com/nyu-epta-grh (https://meet.g
 oogle.com/nyu-epta-grh)\nOr dial: (US) +1 470-735-3644 PIN: 128317458#\nMor
 e phone numbers: https://tel.meet/nyu-epta-grh?pin=7889059170951&amp;hs=7\n
 \nLearn more about Meet at: https://support.google.com/a/users/answer/92827
 20 (https://support.google.com/a/users/answer/9282720)
X-ALT-DESC;FMTTYPE=text/html:Join with Google Meet: <a href="https://meet.google.com/nyu-epta-grh">https
 ://meet.google.com/nyu-epta-grh</a><br/>Or dial: (US) +1 470-735-3644 PIN: 
 128317458#<br/>More phone numbers: <a href="https://tel.meet/nyu-epta-grh?p
 in=7889059170951&hs=7<br/><br/>Learn">https://tel.meet/nyu-epta-grh?pin=788
 9059170951&hs=7<br/><br/>Learn</a> more about Meet at: <a href="https://sup
 port.google.com/a/users/answer/9282720">https://support.google.com/a/users/
 answer/9282720</a>
DTSTAMP:20260419T123350
DTSTART;VALUE=DATE:20260806
DTEND;VALUE=DATE:20260810
SEQUENCE:0
TRANSP:OPAQUE
END:VEVENT
END:VCALENDAR