BEGIN:VCALENDAR
VERSION:2.0
PRODID:-//jEvents 2.0 for Joomla//EN
CALSCALE:GREGORIAN
METHOD:PUBLISH
BEGIN:VEVENT
UID:2ep9pl2hkghunen273t120cf7i@google.com
CATEGORIES:DEFAULT
CREATED:20251201T191505
SUMMARY:Camp Wilderness Governance Meeting
LOCATION:Camp Wilderness - Royal Rangers\, 3065 US-17\, Fort Meade\, FL 33841\, USA
DESCRIPTION:Join with Google Meet: <a href="https://meet.google.com/mqh-tzbs-mxm">https
 ://meet.google.com/mqh-tzbs-mxm</a><br/>Or dial: (US) +1 443-606-2610 PIN: 
 863048466#<br/>More phone numbers: <a href="https://tel.meet/mqh-tzbs-mxm?p
 in=9727841019927&hs=7<br/><br/>Learn">https://tel.meet/mqh-tzbs-mxm?pin=972
 7841019927&hs=7<br/><br/>Learn</a> more about Meet at: <a href="https://sup
 port.google.com/a/users/answer/9282720">https://support.google.com/a/users/
 answer/9282720</a>
DTSTAMP:20260419T162558
DTSTART:20260131T140000
DTEND:20260131T160000
SEQUENCE:1
TRANSP:OPAQUE
END:VEVENT
END:VCALENDAR