BEGIN:VCALENDAR
VERSION:2.0
PRODID:-//jEvents 2.0 for Joomla//EN
CALSCALE:GREGORIAN
METHOD:PUBLISH
BEGIN:VEVENT
UID:b47csf14dag713fodngqg1l44c@google.com
CATEGORIES:DEFAULT
CREATED:20260331T160612
SUMMARY:Pow Wow
DESCRIPTION:
DTSTAMP:20260419T125646
DTSTART;VALUE=DATE:20270402
DTEND;VALUE=DATE:20270405
SEQUENCE:0
TRANSP:OPAQUE
END:VEVENT
END:VCALENDAR