BEGIN:VCALENDAR
VERSION:2.0
PRODID:-//jEvents 2.0 for Joomla//EN
CALSCALE:GREGORIAN
METHOD:PUBLISH
BEGIN:VEVENT
UID:orkqo48s7845uvfftj41obhrb8@google.com
CATEGORIES:DEFAULT
CREATED:20260331T160612
SUMMARY:Pow Wow Workday
DESCRIPTION:
DTSTAMP:20260419T125710
DTSTART;VALUE=DATE:20270319
DTEND;VALUE=DATE:20270321
SEQUENCE:0
TRANSP:OPAQUE
END:VEVENT
END:VCALENDAR