BEGIN:VCALENDAR
VERSION:2.0
PRODID:-//jEvents 2.0 for Joomla//EN
CALSCALE:GREGORIAN
METHOD:PUBLISH
BEGIN:VEVENT
UID:43r3cmq1hhqac59vm5bil852t7@google.com
CATEGORIES:DEFAULT
CREATED:20251201T174633
SUMMARY:FCF Trace and Adventure
DESCRIPTION:
DTSTAMP:20260419T130731
DTSTART;VALUE=DATE:20260205
DTEND;VALUE=DATE:20260209
SEQUENCE:0
TRANSP:OPAQUE
END:VEVENT
END:VCALENDAR