BEGIN:VCALENDAR
VERSION:2.0
PRODID:-//jEvents 2.0 for Joomla//EN
CALSCALE:GREGORIAN
METHOD:PUBLISH
BEGIN:VEVENT
UID:1k2arojdugif4bm6dqsd2qm30f@google.com
CATEGORIES:DEFAULT
CREATED:20251201T174629
SUMMARY:Pow Wow
DESCRIPTION:
DTSTAMP:20260419T095553
DTSTART;VALUE=DATE:20260410
DTEND;VALUE=DATE:20260413
SEQUENCE:0
TRANSP:OPAQUE
END:VEVENT
END:VCALENDAR