BEGIN:VCALENDAR
VERSION:2.0
PRODID:-//jEvents 2.0 for Joomla//EN
CALSCALE:GREGORIAN
METHOD:PUBLISH
BEGIN:VEVENT
UID:54ghp8tjt7t2us3nacrt2pd2cd@google.com
CATEGORIES:DEFAULT
CREATED:20251201T174629
SUMMARY:FCF Black Powder Shooters Course
DESCRIPTION:
DTSTAMP:20260419T112513
DTSTART;VALUE=DATE:20260220
DTEND;VALUE=DATE:20260222
SEQUENCE:0
TRANSP:OPAQUE
END:VEVENT
END:VCALENDAR