BEGIN:VCALENDAR
VERSION:2.0
PRODID:-//jEvents 2.0 for Joomla//EN
CALSCALE:GREGORIAN
METHOD:PUBLISH
BEGIN:VEVENT
UID:3hahrisf9o5mu7ec9ntppc7erh@google.com
CATEGORIES:DEFAULT
CREATED:20251201T174629
SUMMARY:Pow Wow Workday
DESCRIPTION:
DTSTAMP:20260419T121213
DTSTART;VALUE=DATE:20260328
DTEND;VALUE=DATE:20260329
SEQUENCE:0
TRANSP:OPAQUE
END:VEVENT
END:VCALENDAR