BEGIN:VCALENDAR
VERSION:2.0
PRODID:-//jEvents 2.0 for Joomla//EN
CALSCALE:GREGORIAN
METHOD:PUBLISH
BEGIN:VEVENT
UID:g64eq64h2e2ckss4s6qe6gogjk@google.com
CATEGORIES:DEFAULT
CREATED:20230424T151036
SUMMARY:Pow Wow
DESCRIPTION:
DTSTAMP:20260419T104223
DTSTART;VALUE=DATE:20240405
DTEND;VALUE=DATE:20240408
SEQUENCE:0
TRANSP:OPAQUE
END:VEVENT
END:VCALENDAR