BEGIN:VCALENDAR
VERSION:2.0
PRODID:-//jEvents 2.0 for Joomla//EN
CALSCALE:GREGORIAN
METHOD:PUBLISH
BEGIN:VEVENT
UID:3g7erkkgv7eab2otea0lnupq4u@google.com
CATEGORIES:DEFAULT
CREATED:20260302T091504
SUMMARY:Shooting Sports Action Camp
DESCRIPTION:
DTSTAMP:20260419T112555
DTSTART;VALUE=DATE:20261015
DTEND;VALUE=DATE:20261019
SEQUENCE:0
TRANSP:OPAQUE
END:VEVENT
END:VCALENDAR