BEGIN:VCALENDAR
VERSION:2.0
PRODID:-//jEvents 2.0 for Joomla//EN
CALSCALE:GREGORIAN
METHOD:PUBLISH
BEGIN:VEVENT
UID:4g2i281vmi55k08t92e7ctf6fm@google.com
CATEGORIES:DEFAULT
CREATED:20240603T194851
SUMMARY:Black Powder Shooters Course (FCF)
DESCRIPTION:
DTSTAMP:20260419T140609
DTSTART:20240614T210000
DTEND:20240615T213000
SEQUENCE:1
TRANSP:OPAQUE
END:VEVENT
END:VCALENDAR