BEGIN:VCALENDAR
VERSION:2.0
PRODID:-//jEvents 2.0 for Joomla//EN
CALSCALE:GREGORIAN
METHOD:PUBLISH
BEGIN:VEVENT
UID:4lmmpjv2hk88ql76p27geiab5q@google.com
CATEGORIES:DEFAULT
CREATED:20240522T070632
SUMMARY:Missions Action Camp
DESCRIPTION:
DTSTAMP:20260419T110046
DTSTART;VALUE=DATE:20240801
DTEND;VALUE=DATE:20240805
SEQUENCE:0
TRANSP:OPAQUE
END:VEVENT
END:VCALENDAR