BEGIN:VCALENDAR
VERSION:2.0
PRODID:-//jEvents 2.0 for Joomla//EN
CALSCALE:GREGORIAN
METHOD:PUBLISH
BEGIN:VEVENT
UID:n29hlordhr72r9e4hgbg5d935s@google.com
CATEGORIES:DEFAULT
CREATED:20240412T201503
SUMMARY:Junior Training Camps
DESCRIPTION:
DTSTAMP:20260419T090609
DTSTART;VALUE=DATE:20241205
DTEND;VALUE=DATE:20241209
SEQUENCE:0
TRANSP:OPAQUE
END:VEVENT
END:VCALENDAR