BEGIN:VCALENDAR
VERSION:2.0
PRODID:-//jEvents 2.0 for Joomla//EN
CALSCALE:GREGORIAN
METHOD:PUBLISH
BEGIN:VEVENT
UID:e7v1ducd4q4ogiqp5229n9qo88@google.com
CATEGORIES:DEFAULT
CREATED:20260216T183855
SUMMARY:NEEC
DESCRIPTION:
DTSTAMP:20260419T130732
DTSTART;VALUE=DATE:20270114
DTEND;VALUE=DATE:20270118
SEQUENCE:0
TRANSP:OPAQUE
END:VEVENT
END:VCALENDAR