BEGIN:VCALENDAR
VERSION:2.0
PRODID:-//jEvents 2.0 for Joomla//EN
CALSCALE:GREGORIAN
METHOD:PUBLISH
BEGIN:VEVENT
UID:597f64mb8v02vf2svo5ukerl9s@google.com
CATEGORIES:DEFAULT
CREATED:20260216T183855
SUMMARY:WCO
DESCRIPTION:
DTSTAMP:20260419T112709
DTSTART;VALUE=DATE:20261002
DTEND;VALUE=DATE:20261004
SEQUENCE:0
TRANSP:OPAQUE
END:VEVENT
END:VCALENDAR