BEGIN:VCALENDAR
VERSION:2.0
PRODID:-//jEvents 2.0 for Joomla//EN
CALSCALE:GREGORIAN
METHOD:PUBLISH
BEGIN:VEVENT
UID:2mbon7pe9nra3kke4t0iucefdb@google.com
CATEGORIES:DEFAULT
CREATED:20240219T123255
SUMMARY:District Staff Meeting
DESCRIPTION:
DTSTAMP:20260419T155507
DTSTART:20240309T000000
DTEND:20240309T030000
SEQUENCE:0
TRANSP:OPAQUE
END:VEVENT
END:VCALENDAR