BEGIN:VCALENDAR
VERSION:2.0
PRODID:-//jEvents 2.0 for Joomla//EN
CALSCALE:GREGORIAN
METHOD:PUBLISH
BEGIN:VEVENT
UID:mopa6o54t0rhp5a0ajajhv2874@google.com
CATEGORIES:DEFAULT
CREATED:20230424T151036
SUMMARY:Pow Wow Work Day
DESCRIPTION:
DTSTAMP:20260419T105433
DTSTART;VALUE=DATE:20240323
DTEND;VALUE=DATE:20240324
SEQUENCE:0
TRANSP:OPAQUE
END:VEVENT
END:VCALENDAR