BEGIN:VCALENDAR
VERSION:2.0
PRODID:-//jEvents 2.0 for Joomla//EN
CALSCALE:GREGORIAN
METHOD:PUBLISH
BEGIN:VEVENT
UID:5frif9kuni627djjtc1iklcgtr@google.com
CATEGORIES:DEFAULT
CREATED:20240109T200903
SUMMARY:Summer Merit Camp
DESCRIPTION:
DTSTAMP:20260419T090617
DTSTART;VALUE=DATE:20240620
DTEND;VALUE=DATE:20240624
SEQUENCE:0
TRANSP:OPAQUE
END:VEVENT
END:VCALENDAR