BEGIN:VCALENDAR
VERSION:2.0
PRODID:-//jEvents 2.0 for Joomla//EN
CALSCALE:GREGORIAN
METHOD:PUBLISH
BEGIN:VEVENT
UID:94vjllvqtn5dt0o68t0fkfqq2k@google.com
CATEGORIES:DEFAULT
CREATED:19691231T180000
SUMMARY:District Video Meeting (All Leaders Welcome)
DESCRIPTION:Every 3 months on the first Monday of the Month - A catch up opportunity op
 en to Leaders of all levels. We may occasionally move or cancel due to Holi
 day conflicts but will communicate that to the District.\n\nJoin with Googl
 e Meet: https://meet.google.com/sxz-teny-gdz (https://meet.google.com/sxz-t
 eny-gdz)\nOr dial: (US) +1 352-462-5119 PIN: 554864288#\nMore phone numbers
 : https://tel.meet/sxz-teny-gdz?pin=7413617782913&amp;hs=7\n\nLearn more ab
 out Meet at: https://support.google.com/a/users/answer/9282720 (https://sup
 port.google.com/a/users/answer/9282720)
X-ALT-DESC;FMTTYPE=text/html:Every 3 months on the first Monday of the Month - A catch up opportunity op
 en to Leaders of all levels. We may occasionally move or cancel due to Holi
 day conflicts but will communicate that to the District.<br/><br/>Join with
  Google Meet: <a href="https://meet.google.com/sxz-teny-gdz">https://meet.g
 oogle.com/sxz-teny-gdz</a><br/>Or dial: (US) +1 352-462-5119 PIN: 554864288
 #<br/>More phone numbers: <a href="https://tel.meet/sxz-teny-gdz?pin=741361
 7782913&hs=7<br/><br/>Learn">https://tel.meet/sxz-teny-gdz?pin=741361778291
 3&hs=7<br/><br/>Learn</a> more about Meet at: <a href="https://support.goog
 le.com/a/users/answer/9282720">https://support.google.com/a/users/answer/92
 82720</a>
DTSTAMP:20260419T140457
DTSTART:20240604T000000
DTEND:20240604T010000
SEQUENCE:2
RRULE:FREQ=MONTHLY;UNTIL=20250303T000000Z;INTERVAL=3;BYDAY=1MO
TRANSP:OPAQUE
END:VEVENT
END:VCALENDAR